BEGIN:VCALENDAR
VERSION:2.0
PRODID:-//Modra joga - ECPv6.14.2//NONSGML v1.0//EN
CALSCALE:GREGORIAN
METHOD:PUBLISH
X-WR-CALNAME:Modra joga
X-ORIGINAL-URL:https://modrajoga.si
X-WR-CALDESC:Events for Modra joga
REFRESH-INTERVAL;VALUE=DURATION:PT1H
X-Robots-Tag:noindex
X-PUBLISHED-TTL:PT1H
BEGIN:VTIMEZONE
TZID:UTC
BEGIN:STANDARD
TZOFFSETFROM:+0000
TZOFFSETTO:+0000
TZNAME:UTC
DTSTART:20250101T000000
END:STANDARD
END:VTIMEZONE
BEGIN:VEVENT
DTSTART;TZID=UTC:20250903T090000
DTEND;TZID=UTC:20250905T180000
DTSTAMP:20260421T182952
CREATED:20250818T111015Z
LAST-MODIFIED:20250818T164612Z
UID:1035-1756890000-1757095200@modrajoga.si
SUMMARY:Dnevi odprtih vadb
DESCRIPTION:Prisrčno vabljeni na predstavitvene vadbe: \n\nsreda 3.sept\n\n9:00 – 10:30 – Miha S\n17:30 – 19:00 – Miha P\n19:30 – 21:00 – Miha P\n\n\nčetrtek 4. sept\n\n7:30 – 8:45 – Pilljae \n9:00 – 10:30 – Pilljae\n17:00 – 18:30 – Miha S\n19:00 – 20:30 – Tinkara\n\n\npetek\, 5. sept\n\n9:00 – 10:30 – Pilljae\n16:00 – 17:30 – Pilljae\n\n\n\n\n \nDnevi odprti vadb so predvsem namenjeni tistim\, ki bi radi najprej preizkusili naše vadbe\, preden se zavežejo za daljše obdobje.\n\nNato pridejo na vrsto: poletni vadeči\, ki še niso izkoristili vseh obiskov;  vadeči\, ki s seboj pripeljejo koga novega;  vsi ostali\n\nPredhodne prijave so obvezne.
URL:https://modrajoga.si/event/dnevi-odprtih-vadb/
ATTACH;FMTTYPE=image/jpeg:https://modrajoga.si/wp-content/uploads/2025/08/Predstavitvene-vadbe2-page-001-1.jpg
END:VEVENT
END:VCALENDAR