BEGIN:VCALENDAR
VERSION:2.0
PRODID:-//Modra joga - ECPv6.14.2//NONSGML v1.0//EN
CALSCALE:GREGORIAN
METHOD:PUBLISH
X-WR-CALNAME:Modra joga
X-ORIGINAL-URL:https://modrajoga.si
X-WR-CALDESC:Events for Modra joga
REFRESH-INTERVAL;VALUE=DURATION:PT1H
X-Robots-Tag:noindex
X-PUBLISHED-TTL:PT1H
BEGIN:VTIMEZONE
TZID:UTC
BEGIN:STANDARD
TZOFFSETFROM:+0000
TZOFFSETTO:+0000
TZNAME:UTC
DTSTART:20260101T000000
END:STANDARD
END:VTIMEZONE
BEGIN:VEVENT
DTSTART;TZID=UTC:20260314T090000
DTEND;TZID=UTC:20260314T120000
DTSTAMP:20260421T234506
CREATED:20250817T140211Z
LAST-MODIFIED:20251217T140947Z
UID:1010-1773478800-1773489600@modrajoga.si
SUMMARY:Sobotna poglobljena delavnica
DESCRIPTION:Sobotne delavnice so namenjene poglobljenem raziskovanju\, utrjevanju znanja in razumevanja jogijskih položajev ter tehnik dihanja. Med drugim so tudi del mentorskega procesa\, kjer se mentoriranci pripravljajo za izpit in se učijo učenja – kakšen položaj odvodijo tudi oni. \nPotekajo enkrat mesečno. Primerne so za vadeče\, ki so že osvojili osnove (Iyengar) joge (vsaj kako leto redne prakse)\, za učitelje v izobraževanju ter za učitelje joge. \nDelavnico vodi Miha Potočnik\, število udeležencev je omejeno na 8.
URL:https://modrajoga.si/event/sobotna-poglobljena-delavnica-2/
ATTACH;FMTTYPE=image/jpeg:https://modrajoga.si/wp-content/uploads/2025/08/Ardha-chandrasana-popravek-1.jpg
END:VEVENT
BEGIN:VEVENT
DTSTART;TZID=UTC:20260411T090000
DTEND;TZID=UTC:20260411T120000
DTSTAMP:20260421T234506
CREATED:20260211T062702Z
LAST-MODIFIED:20260211T062817Z
UID:1160-1775898000-1775908800@modrajoga.si
SUMMARY:Joga delavnica v Zagrebu
DESCRIPTION:SOBOTNA  DELAVNICA  IYENGAR JOGE  \npridružite se nam na sobotni delavnici Iyengar joge s Mihom Potočnikom (Junior Intermediate III / Level III). \n  \nLOKACIJA: Mjesni Odbor Peščenica\, Njegoševa 10\, 1. kat\, Zagreb \nDATUM: Sobota\, 11. 4. 2026\, od 9 do 12 sati \n  \nCENA: \n\n44 € za zgodnje prijave (do 28. 3.)\n52 € za prijave od 29. 3.\n\n  \nINFORMACIJE  IN  PRIJAVE: anapojatina@yahoo.com (Ana Pojatina)
URL:https://modrajoga.si/event/joga-delavnica-v-zagrebu/
ATTACH;FMTTYPE=image/jpeg:https://modrajoga.si/wp-content/uploads/2026/02/unnamed.jpg
END:VEVENT
BEGIN:VEVENT
DTSTART;TZID=UTC:20260418T090000
DTEND;TZID=UTC:20260418T120000
DTSTAMP:20260421T234506
CREATED:20250817T140023Z
LAST-MODIFIED:20260211T061940Z
UID:1006-1776502800-1776513600@modrajoga.si
SUMMARY:Sobotna poglobljena delavnica
DESCRIPTION:Sobotne delavnice so namenjene poglobljenem raziskovanju\, utrjevanju znanja in razumevanja jogijskih položajev ter tehnik dihanja. Med drugim so tudi del mentorskega procesa\, kjer se mentoriranci pripravljajo za izpit in se učijo učenja – kakšen položaj odvodijo tudi oni. \nPotekajo enkrat mesečno. Primerne so za vadeče\, ki so že osvojili osnove (Iyengar) joge (vsaj kako leto redne prakse)\, za učitelje v izobraževanju ter za učitelje joge. \nDelavnico vodi Miha Potočnik\, število udeležencev je omejeno na 8.€
URL:https://modrajoga.si/event/sobotna-poglobljena-delavnica-5/
ATTACH;FMTTYPE=image/jpeg:https://modrajoga.si/wp-content/uploads/2025/08/Ardha-chandrasana-popravek-1.jpg
END:VEVENT
BEGIN:VEVENT
DTSTART;TZID=UTC:20260523T090000
DTEND;TZID=UTC:20260523T120000
DTSTAMP:20260421T234506
CREATED:20251217T141150Z
LAST-MODIFIED:20251217T141150Z
UID:1118-1779526800-1779537600@modrajoga.si
SUMMARY:Sobotna poglobljena delavnica
DESCRIPTION:Sobotne delavnice so namenjene poglobljenem raziskovanju\, utrjevanju znanja in razumevanja jogijskih položajev ter tehnik dihanja. Med drugim so tudi del mentorskega procesa\, kjer se mentoriranci pripravljajo za izpit in se učijo učenja – kakšen položaj odvodijo tudi oni. \nPotekajo enkrat mesečno. Primerne so za vadeče\, ki so že osvojili osnove (Iyengar) joge (vsaj kako leto redne prakse)\, za učitelje v izobraževanju ter za učitelje joge. \nDelavnico vodi Miha Potočnik\, število udeležencev je omejeno na 8.€
URL:https://modrajoga.si/event/sobotna-poglobljena-delavnica/
ATTACH;FMTTYPE=image/jpeg:https://modrajoga.si/wp-content/uploads/2025/08/Ardha-chandrasana-popravek-1.jpg
END:VEVENT
END:VCALENDAR